BEGIN:VCALENDAR
VERSION:2.0
METHOD:PUBLISH
BEGIN:VEVENT
UID:WILD_APRICOT_EVENT_2990609_SESSION_1
DTSTART:20180825T140000Z
DTEND:20180830T140000Z
SUMMARY:International Society for Clinical Biostatistics and Australian Statistical Conference 2018
LOCATION:ISCB ASC 2018\, Melbourne Cost: TBA
DESCRIPTION:https://statsoc.org.au/event-2990609\n\n\n\n
DTSTAMP:20260424T170152Z
END:VEVENT
END:VCALENDAR
