BEGIN:VCALENDAR
VERSION:2.0
METHOD:PUBLISH
BEGIN:VEVENT
UID:WILD_APRICOT_EVENT_3036220_SESSION_1
DTSTART:20180926T000000Z
DTEND:20180926T070000Z
SUMMARY:Young Statisticians’ Workshop 2018
LOCATION:Rigby’s Bar\, 211 St Georges Terrace\, Perth
DESCRIPTION:https://statsoc.org.au/event-3036220\n\nStatistical Society of Australia\, aimed at supporting young statisticians and students who are interested in pursuing a career in statistics and providing networking opportunities between participants and invited speakers. University students and graduates in the early years of their statistics career are particularly encouraged to attend.\n  For more details\, see our flyer.\n  To book your seat\, visit trybooking.\n
DTSTAMP:20260424T170202Z
END:VEVENT
END:VCALENDAR
