BEGIN:VCALENDAR
VERSION:2.0
METHOD:PUBLISH
BEGIN:VEVENT
UID:WILD_APRICOT_EVENT_3068398_SESSION_1
DTSTART:20180925T080000Z
DTEND:20180925T093000Z
SUMMARY:Urban Modelling and Understanding with Machine Learning
LOCATION:Room 430\, Level 5\, Building 4\, University of Technology Sydney
DESCRIPTION:https://statsoc.org.au/event-3068398\n\n\nDr Tian (Frank) Feng\n  \nUniversity of New South Wales\n  Urban modelling and urban understanding have been two active research topics for years in the communities of computer graphics and computer vision. Their applications benefit a wide variety of areas such as entertainment production\, urban planning and city management. Although conventional approaches have gained considerable successes on resolving relevant problems\, there still exist critical gaps about how to deal with high-dimensional solution spaces due to the complexity of a city. The rise of machine learning\, however\, provides a new perspective for addressing such concerns\, and a number of works have shown the potential of machine learning methods for resolving problems of urban modelling and understanding. In a context of urban modelling and understanding\, this talk reviews the mainstream approaches and focuses on the application of machine learning. A brief introduction to the EPICentre’s latest achievements on visualisation is also included.\n  \nBiography\n  Dr Tian (Frank) Feng is currently serving as a postdoctoral fellow at the UNSW Art & Design\, Expanded Perception and Interaction Centre (EPICentre). He received his PhD degree in Information Systems Technology and Design from the Singapore University of Technology and Design in 2017 and his BSc degree in Geographic Information Systems from Zhejiang University (China) in 2008. Prior to joining the EPICentre\, he worked as a software engineer on digital arts at TeamLab Inc (Japan). His research interests focus on Computer Graphics\, Computer Vision\, and Geographic Information Systems.\n  \n\n
DTSTAMP:20260424T171741Z
END:VEVENT
END:VCALENDAR
