BEGIN:VCALENDAR
VERSION:2.0
METHOD:PUBLISH
BEGIN:VEVENT
UID:WILD_APRICOT_EVENT_3142335_SESSION_1
DTSTART:20181211T060000Z
DTEND:20181211T060000Z
SUMMARY:Queensland Xmas Party
LOCATION:
DESCRIPTION:https://statsoc.org.au/event-3142335\n\nSTATISTICAL SOCIETY OF AUSTRALIA QUEENSLAND ORDINARY BRANCH MEETING\n  TIME: 5pm Christmas Party\, Tuesday 11 December 2018\n  COST: Free\n  VENUE: Queensland University of Technology\, Gardens Point\, Z Block\, The Gibson Room 1064\n  TITLE: Christmas Party\n  Details: Had a long year? Come relax and join the QLD branch council for drinks and canapes. This will be a time to meet new people\, catch-up with old friends and provide feedback/suggestions on past and future events.\nMembership\n  Keep your community strong\, SSA provides a place for networking\, opportunities for professional development and accreditation. In a world of alternative facts\, professional bodies play an increasing important role in sharing and dissemination of trusted information. You can make a difference\, get involved in your local branch\, Student membership is only $20. For more detail click here. http://www.statsoc.org.au/membership/types-of-membership/\n
DTSTAMP:20260424T195710Z
END:VEVENT
END:VCALENDAR
