BEGIN:VCALENDAR
VERSION:2.0
METHOD:PUBLISH
BEGIN:VEVENT
UID:WILD_APRICOT_EVENT_3288869_SESSION_1
DTSTART:20190506T230000Z
DTEND:20190508T080000Z
SUMMARY:Chief Data & Analytics Officer Exchange - external event
LOCATION:Chirnside Park\, Australia
DESCRIPTION:https://statsoc.org.au/event-3288869\n\nThe Chief Data & Analytics Officer Exchange brings together the most innovative and insightful technology leaders across industries for in-depth discussions and exchanges of experience and ideas to address the emerging landscape of digital business in a digital economy. The event focuses on developing an enterprise-wide data strategy\, enabling data-driven decision making across the business\, and building organizational capability for advanced analytics.\n\n
DTSTAMP:20260424T171731Z
END:VEVENT
END:VCALENDAR
