BEGIN:VCALENDAR
VERSION:2.0
METHOD:PUBLISH
BEGIN:VEVENT
UID:WILD_APRICOT_EVENT_3288873_SESSION_1
DTSTART:20190501T140000Z
DTEND:20190502T140000Z
SUMMARY:Data Day- Sydney - external event
LOCATION:Sydney\, Australia
DESCRIPTION:https://statsoc.org.au/event-3288873\n\n\nShowcasing the latest and most innovative applications of data to drive experience\n  In its 15th consecutive year\, Data Day will bring you the leading minds in data & analytics\, digital and marketing to showcase the data strategies driving success at the world’s biggest brands.\n  The speakers at Data Day 2019 will discuss how data & analytics can deliver on business objectives\, how data programs are being used to transform customer communication\, insights into GDPR adoption in Australia as well as hands on case studies on what tools marketers use to democratise data.\n  Learn how to overcome data challenges within your own organisation in order to better engage with new and existing customers.\n
DTSTAMP:20260424T171752Z
END:VEVENT
END:VCALENDAR
